BEGIN:VCALENDAR
VERSION:2.0
PRODID:-//eventon.com NONSGML v1.0//EN
BEGIN:VEVENT
UID:69e8a85fde210
DTSTAMP:20260422T125215
DTSTART:20260310
DTEND:20260310
TZID:UTC
LOCATION:
SUMMARY:Bier\,  Brahms Borrelplank
DESCRIPTION: Bier\,  Brahms Borrelplank\nhttps://mail.pieterdekoe.nl/events/bier-brahms-borrelplank/
URL:https://mail.pieterdekoe.nl/events/bier-brahms-borrelplank/
END:VEVENT
END:VCALENDAR