BEGIN:VCALENDAR
VERSION:2.0
PRODID:-//eventon.com NONSGML v1.0//EN
BEGIN:VEVENT
UID:69e756245629d
DTSTAMP:20260421T124908
DTSTART:20260529
DTEND:20260603
TZID:UTC
LOCATION:
SUMMARY:musikakademie in liechtenstein
DESCRIPTION: musikakademie in liechtenstein\nhttps://mail.pieterdekoe.nl/events/musikakademie-in-liechtenstein-2/
URL:https://mail.pieterdekoe.nl/events/musikakademie-in-liechtenstein-2/
END:VEVENT
END:VCALENDAR